BEGIN:VCALENDAR
VERSION:2.0
PRODID:-//Bontempi Chirurgiche Instrumente - ECPv6.15.20//NONSGML v1.0//EN
CALSCALE:GREGORIAN
METHOD:PUBLISH
X-ORIGINAL-URL:https://www.bontempimed.com
X-WR-CALDESC:Eventi per Bontempi Chirurgiche Instrumente
REFRESH-INTERVAL;VALUE=DURATION:PT1H
X-Robots-Tag:noindex
X-PUBLISHED-TTL:PT1H
BEGIN:VTIMEZONE
TZID:Europe/Rome
BEGIN:DAYLIGHT
TZOFFSETFROM:+0100
TZOFFSETTO:+0200
TZNAME:CEST
DTSTART:20250330T010000
END:DAYLIGHT
BEGIN:STANDARD
TZOFFSETFROM:+0200
TZOFFSETTO:+0100
TZNAME:CET
DTSTART:20251026T010000
END:STANDARD
BEGIN:DAYLIGHT
TZOFFSETFROM:+0100
TZOFFSETTO:+0200
TZNAME:CEST
DTSTART:20260329T010000
END:DAYLIGHT
BEGIN:STANDARD
TZOFFSETFROM:+0200
TZOFFSETTO:+0100
TZNAME:CET
DTSTART:20261025T010000
END:STANDARD
BEGIN:DAYLIGHT
TZOFFSETFROM:+0100
TZOFFSETTO:+0200
TZNAME:CEST
DTSTART:20270328T010000
END:DAYLIGHT
BEGIN:STANDARD
TZOFFSETFROM:+0200
TZOFFSETTO:+0100
TZNAME:CET
DTSTART:20271031T010000
END:STANDARD
END:VTIMEZONE
BEGIN:VEVENT
DTSTART;VALUE=DATE:20260124
DTEND;VALUE=DATE:20260125
DTSTAMP:20260426T022017
CREATED:20260116T101720Z
LAST-MODIFIED:20260120T083146Z
UID:21548-1769212800-1769299199@www.bontempimed.com
SUMMARY:AICPE - SICPRE | Naso e Dintorni
DESCRIPTION:Non è il classico congresso generalista\, ma un simposio verticale di alta specializzazione focalizzato sull’armonia del profilo. A differenza dei grandi meeting istituzionali (che coprono tutta la chirurgia plastica)\, questo evento è strutturato come un focus monotematico approfondito\, rappresentando il “salotto” scientifico dove si analizza non solo la rinoplastica\, ma l’intera architettura del volto in relazione al naso. \nPunti Chiave dell’Evento:\n\n\nVisione Olistica (Il concetto di “Dintorni”): È il punto di forza distintivo. Non si parla solo di piramide nasale: ogni relazione è volta a contestualizzare il naso all’interno del viso. Si approfondiscono le interazioni estetiche e funzionali con le aree limitrofe: labbra (lip lift)\, mento (genioplastica)\, fronte e regione periorbitaria\, per ottenere una profiloplastica armonica. \n\n\nConfronto tra Tecniche (Battle of Ideas): Il programma è solitamente diviso per approcci chirurgici a confronto. Esempi classici sono le sessioni dedicate alla dialettica tra “Rinoplastica Strutturale” (la scuola classica di ricostruzione) e “Preservation Rhinoplasty” (le tecniche moderne di conservazione del dorso)\, permettendo di capire quando scegliere l’una o l’altra. \n\n\nVideo-Chirurgia e Tips & Tricks: L’evento è progettato per andare oltre la teoria. Attraverso sessioni di video-chirurgia commentata\, i relatori mostrano i dettagli tecnici “frame by frame”\, svelando i trucchi del mestiere per gestire le asimmetrie complesse\, la pelle spessa o le revisioni secondarie. \n\n\nDecision Making Clinico: L’obiettivo è dare al chirurgo la capacità critica di pianificare l’intervento corretto. Si impara a valutare il paziente non solo dal punto di vista chirurgico ma anche psicologico ed estetico\, riducendo il rischio di insoddisfazione post-operatoria e migliorando la gestione delle aspettative. \n\n\nA chi si rivolge:\nÈ un appuntamento tecnico indispensabile per Specializzandi che vogliono comprendere la complessità della rinologia\, ma soprattutto per Chirurghi Plastici ed Estetici esperti che desiderano aggiornarsi sulle ultime tendenze (es. rinofiller vs chirurgia\, tecniche ibride) e confrontarsi con i massimi esperti nazionali e internazionali del settore.
URL:https://www.bontempimed.com/event/aicpe-naso-e-dintorni/
LOCATION:MILANO\, Italy
CATEGORIES:PLASTICA
ATTACH;FMTTYPE=image/png:https://www.bontempimed.com/wp-content/uploads/2026/01/nasoedintorni.png
END:VEVENT
BEGIN:VEVENT
DTSTART;VALUE=DATE:20260129
DTEND;VALUE=DATE:20260201
DTSTAMP:20260426T022017
CREATED:20260115T085232Z
LAST-MODIFIED:20260129T075827Z
UID:21465-1769644800-1769903999@www.bontempimed.com
SUMMARY:IMCAS PARIGI
DESCRIPTION:L’IMCAS di Parigi è considerato il congresso leader a livello mondiale dedicato alla dermatologia\, alla chirurgia plastica e alla scienza dell’invecchiamento. Fondato nel 1994\, è diventato l’appuntamento imprescindibile per i professionisti del settore estetico medico. \nPunti Chiave dell’Evento:\n\n\nEccellenza Scientifica: L’obiettivo principale è colmare il divario tra la chirurgia plastica e la dermatologia\, offrendo un programma scientifico di altissimo livello basato sull’evidenza. \n\n\nFormazione Avanzata: Il congresso è famoso per i suoi corsi intensivi\, che includono dissezioni anatomiche su cadavere\, dimostrazioni dal vivo (live surgeries) e workshop tecnici sulle ultime procedure. \n\n\nInnovazione Tecnologica: È la vetrina principale dove le aziende globali lanciano nuovi dispositivi laser\, filler\, tossine botuliniche\, protesi e tecnologie per la rigenerazione tissutale. \n\n\nNetworking Globale: Riunisce ogni anno a Parigi (solitamente al Palais des Congrès) oltre 15.000 partecipanti provenienti da più di 130 paesi\, tra medici\, ricercatori e leader dell’industria. \n\n\nA chi si rivolge:\nPrincipalmente a dermatologi\, chirurghi plastici ed estetici\, ma anche a ginecologi estetici\, medici di base specializzati in medicina estetica e professionisti del settore farmaceutico e tecnologico.
URL:https://www.bontempimed.com/event/imcas-parigi/
LOCATION:PARIGI\, France
CATEGORIES:PLASTICA
ATTACH;FMTTYPE=image/jpeg:https://www.bontempimed.com/wp-content/uploads/2026/01/Imcas-2026iwc_1296x324_-scaled-1.jpg
END:VEVENT
END:VCALENDAR