BEGIN:VCALENDAR
VERSION:2.0
PRODID:-//Bontempi Chirurgiche Instrumente - ECPv6.15.20//NONSGML v1.0//EN
CALSCALE:GREGORIAN
METHOD:PUBLISH
X-WR-CALNAME:Bontempi Chirurgiche Instrumente
X-ORIGINAL-URL:https://www.bontempimed.com
X-WR-CALDESC:Eventi per Bontempi Chirurgiche Instrumente
REFRESH-INTERVAL;VALUE=DURATION:PT1H
X-Robots-Tag:noindex
X-PUBLISHED-TTL:PT1H
BEGIN:VTIMEZONE
TZID:Europe/Rome
BEGIN:DAYLIGHT
TZOFFSETFROM:+0100
TZOFFSETTO:+0200
TZNAME:CEST
DTSTART:20250330T010000
END:DAYLIGHT
BEGIN:STANDARD
TZOFFSETFROM:+0200
TZOFFSETTO:+0100
TZNAME:CET
DTSTART:20251026T010000
END:STANDARD
BEGIN:DAYLIGHT
TZOFFSETFROM:+0100
TZOFFSETTO:+0200
TZNAME:CEST
DTSTART:20260329T010000
END:DAYLIGHT
BEGIN:STANDARD
TZOFFSETFROM:+0200
TZOFFSETTO:+0100
TZNAME:CET
DTSTART:20261025T010000
END:STANDARD
BEGIN:DAYLIGHT
TZOFFSETFROM:+0100
TZOFFSETTO:+0200
TZNAME:CEST
DTSTART:20270328T010000
END:DAYLIGHT
BEGIN:STANDARD
TZOFFSETFROM:+0200
TZOFFSETTO:+0100
TZNAME:CET
DTSTART:20271031T010000
END:STANDARD
END:VTIMEZONE
BEGIN:VEVENT
DTSTART;VALUE=DATE:20261021
DTEND;VALUE=DATE:20261024
DTSTAMP:20260426T034147
CREATED:20260115T092955Z
LAST-MODIFIED:20260116T094600Z
UID:21505-1792540800-1792799999@www.bontempimed.com
SUMMARY:AMWC DUBAI
DESCRIPTION:L’AMWC Dubai è l’edizione mediorientale del celebre congresso mondiale di Monaco. Si è rapidamente affermato come l’evento di riferimento per chi vuole operare in una delle regioni più dinamiche e alto-spendenti al mondo per la medicina estetica. Mantiene l’alto standard scientifico del marchio AMWC\, adattandolo alle specifiche esigenze e ai canoni di bellezza del Medio Oriente. \nPunti Chiave dell’Evento:\n\n\nPonte tra Occidente e Medio Oriente: È il punto d’incontro strategico dove le tecniche occidentali incontrano le richieste del mercato arabo. Si discutono protocolli specifici per fototipi scuri e per i canoni estetici locali (es. “Texas Jawline” marcata\, rinofiller\, sbiancamento cutaneo). \n\n\nInnovazione e Lusso: Dubai è sinonimo di eccellenza e lusso\, e il congresso riflette questo aspetto. L’area espositiva è vetrina di tecnologie premium e device ad alto costo che trovano qui il loro mercato ideale. \n\n\nProgramma Scientifico AMS: Il contenuto è supervisionato dalla Aesthetic Multispecialty Society (AMS)\, garantendo la stessa qualità scientifica dell’evento di Monaco. Include sessioni di Live Injection e workshop pratici su cadavere o modelli sintetici. \n\n\nNetworking Strategico: È l’evento chiave per le aziende e i medici che vogliono espandere il proprio business nell’area del Golfo (GCC). Partecipare significa entrare in contatto con distributori locali\, investitori e cliniche di lusso alla ricerca di talenti internazionali. \n\n\nA chi si rivolge:\nÈ fondamentale per Medici Estetici\, Dermatologi e Chirurghi Plastici che guardano al mercato internazionale. È particolarmente indicato per chi vuole capire i trend estetici globali al di fuori della prospettiva puramente europea o americana.
URL:https://www.bontempimed.com/event/amwc-dubai/
LOCATION:DUBAI\, United Arab Emirates
CATEGORIES:PLASTICA
ATTACH;FMTTYPE=image/jpeg:https://www.bontempimed.com/wp-content/uploads/2026/01/AMWC-DUBAI-scaled.jpg
END:VEVENT
END:VCALENDAR