BEGIN:VCALENDAR
VERSION:2.0
PRODID:-//Bontempi Chirurgiche Instrumente - ECPv6.15.20//NONSGML v1.0//EN
CALSCALE:GREGORIAN
METHOD:PUBLISH
X-WR-CALNAME:Bontempi Chirurgiche Instrumente
X-ORIGINAL-URL:https://www.bontempimed.com
X-WR-CALDESC:Eventi per Bontempi Chirurgiche Instrumente
REFRESH-INTERVAL;VALUE=DURATION:PT1H
X-Robots-Tag:noindex
X-PUBLISHED-TTL:PT1H
BEGIN:VTIMEZONE
TZID:Europe/Rome
BEGIN:DAYLIGHT
TZOFFSETFROM:+0100
TZOFFSETTO:+0200
TZNAME:CEST
DTSTART:20250330T010000
END:DAYLIGHT
BEGIN:STANDARD
TZOFFSETFROM:+0200
TZOFFSETTO:+0100
TZNAME:CET
DTSTART:20251026T010000
END:STANDARD
BEGIN:DAYLIGHT
TZOFFSETFROM:+0100
TZOFFSETTO:+0200
TZNAME:CEST
DTSTART:20260329T010000
END:DAYLIGHT
BEGIN:STANDARD
TZOFFSETFROM:+0200
TZOFFSETTO:+0100
TZNAME:CET
DTSTART:20261025T010000
END:STANDARD
BEGIN:DAYLIGHT
TZOFFSETFROM:+0100
TZOFFSETTO:+0200
TZNAME:CEST
DTSTART:20270328T010000
END:DAYLIGHT
BEGIN:STANDARD
TZOFFSETFROM:+0200
TZOFFSETTO:+0100
TZNAME:CET
DTSTART:20271031T010000
END:STANDARD
END:VTIMEZONE
BEGIN:VEVENT
DTSTART;VALUE=DATE:20260515
DTEND;VALUE=DATE:20260518
DTSTAMP:20260426T004910
CREATED:20260115T092259Z
LAST-MODIFIED:20260116T093945Z
UID:21497-1778803200-1779062399@www.bontempimed.com
SUMMARY:SIME ROMA
DESCRIPTION:Il Congresso SIME è un’istituzione storica\, spesso definita la “Culla della Medicina Estetica”. Fondato dal Prof. Carlo Alberto Bartoletti\, si svolge annualmente a Roma (nella prestigiosa cornice del Rome Cavalieri Waldorf Astoria) ed è considerato l’evento scientificamente più rigoroso e accademico del panorama italiano. È il punto d’incontro ufficiale dove la disciplina viene trattata non solo come tecnica\, ma come vera e propria scienza medica. \nPunti Chiave dell’Evento:\n\n\nRigore Scientifico ed Etico: A differenza di congressi più commerciali\, il SIME seleziona i contenuti con un filtro accademico molto stretto. Si privilegia l’Evidence Based Medicine (medicina basata sull’evidenza)\, ponendo l’etica e la sicurezza del paziente al di sopra delle mode del momento. \n\n\nApproccio Metodologico: Il marchio di fabbrica del SIME è l’insegnamento di un metodo: non si parla solo di come riempire una ruga\, ma di come eseguire un check-up cutaneo\, come inquadrare il paziente clinicamente e come prevenire l’invecchiamento (medicina preventiva) prima ancora di correggerlo. \n\n\nFocus sulle Complicanze: È famoso per le sessioni dedicate alla gestione degli effetti avversi. Si analizzano i casi difficili con onestà intellettuale\, offrendo protocolli chiari per risolvere problemi derivanti da filler\, laser o altri trattamenti. \n\n\nNetworking Internazionale e Scuola: Essendo legato alla Scuola Internazionale di Medicina Estetica (Fatebenefratelli)\, attira i grandi nomi della ricerca mondiale e funge da “rito di passaggio” per le nuove generazioni di medici estetici che presentano qui le loro tesi e primi lavori. \n\n\nA chi si rivolge:\nÈ il congresso di riferimento primario per il Medico Estetico puro. È fondamentale anche per Dermatologi\, Endocrinologi e specialisti interessati all’aspetto internistico e preventivo dell’estetica. È l’evento ideale per chi cerca formazione solida e non solo “show”.
URL:https://www.bontempimed.com/event/sime-roma/
LOCATION:ROMA\, Italy
CATEGORIES:PLASTICA
ATTACH;FMTTYPE=image/jpeg:https://www.bontempimed.com/wp-content/uploads/2026/01/SIME-ROMA-scaled.jpg
END:VEVENT
END:VCALENDAR