BEGIN:VCALENDAR
VERSION:2.0
PRODID:-//Bontempi Chirurgiche Instrumente - ECPv6.15.20//NONSGML v1.0//EN
CALSCALE:GREGORIAN
METHOD:PUBLISH
X-WR-CALNAME:Bontempi Chirurgiche Instrumente
X-ORIGINAL-URL:https://www.bontempimed.com
X-WR-CALDESC:Eventi per Bontempi Chirurgiche Instrumente
REFRESH-INTERVAL;VALUE=DURATION:PT1H
X-Robots-Tag:noindex
X-PUBLISHED-TTL:PT1H
BEGIN:VTIMEZONE
TZID:Europe/Rome
BEGIN:DAYLIGHT
TZOFFSETFROM:+0100
TZOFFSETTO:+0200
TZNAME:CEST
DTSTART:20250330T010000
END:DAYLIGHT
BEGIN:STANDARD
TZOFFSETFROM:+0200
TZOFFSETTO:+0100
TZNAME:CET
DTSTART:20251026T010000
END:STANDARD
BEGIN:DAYLIGHT
TZOFFSETFROM:+0100
TZOFFSETTO:+0200
TZNAME:CEST
DTSTART:20260329T010000
END:DAYLIGHT
BEGIN:STANDARD
TZOFFSETFROM:+0200
TZOFFSETTO:+0100
TZNAME:CET
DTSTART:20261025T010000
END:STANDARD
BEGIN:DAYLIGHT
TZOFFSETFROM:+0100
TZOFFSETTO:+0200
TZNAME:CEST
DTSTART:20270328T010000
END:DAYLIGHT
BEGIN:STANDARD
TZOFFSETFROM:+0200
TZOFFSETTO:+0100
TZNAME:CET
DTSTART:20271031T010000
END:STANDARD
END:VTIMEZONE
BEGIN:VEVENT
DTSTART;VALUE=DATE:20260425
DTEND;VALUE=DATE:20260430
DTSTAMP:20260425T231918
CREATED:20260115T091909Z
LAST-MODIFIED:20260116T094240Z
UID:21491-1777075200-1777507199@www.bontempimed.com
SUMMARY:CEORL-HNS
DESCRIPTION:Spesso indicato semplicemente come “l’Europeo”\, è il più grande e prestigioso congresso continentale dedicato all’Otorinolaringoiatria e alla Chirurgia Cervico-Facciale. È un evento biennale itinerante che riunisce le società scientifiche di tutta Europa\, rappresentando il punto di arrivo per la ricerca accademica e clinica del settore. \nPunti Chiave dell’Evento:\n\n\nMultidisciplinarietà Totale: A differenza dei congressi puramente estetici\, questo evento copre l’intero spettro della disciplina. Si spazia dall’Otologia (orecchio) alla Laringologia (voce)\, dall’Oncologia testa-collo alla Rinologia\, offrendo una visione d’insieme della patologia e della chirurgia. \n\n\nFocus sulla Chirurgia Plastica Facciale: All’interno del vasto programma\, esiste una sezione dedicata (“Track”) alla Facial Plastic Surgery. Qui\, la rinoplastica\, l’otoplastica e la ricostruzione del volto vengono trattate con un approccio fortemente funzionale e ricostruttivo\, spesso in collaborazione con la EAFPS (European Academy of Facial Plastic Surgery). \n\n\nAccademia e Ricerca: È un congresso dal taglio molto scientifico e universitario. È il luogo dove vengono presentate le linee guida internazionali\, gli studi clinici multicentrici e le scoperte che cambieranno i protocolli di cura negli ospedali pubblici e privati. \n\n\nTecnologia e Microchirurgia: È la vetrina per l’alta tecnologia applicata alla funzionalità: chirurgia robotica (TORS)\, sistemi di navigazione per la chirurgia dei seni paranasali e del basocranio\, e le più avanzate tecniche di microchirurgia ricostruttiva. \n\n\nA chi si rivolge:\nIl target principale sono gli Otorinolaringoiatri (ENT) ospedalieri e universitari\, i Chirurghi Cervico-Facciali e i Chirurghi Maxillo-Facciali. È meno indicato per chi si occupa esclusivamente di medicina estetica “soft”\, mentre è fondamentale per chi gestisce la chirurgia del naso e del volto nella sua complessità funzionale.
URL:https://www.bontempimed.com/event/ceorl-hns/
LOCATION:GOTHENBURG\, Germany
CATEGORIES:PLASTICA
ATTACH;FMTTYPE=image/jpeg:https://www.bontempimed.com/wp-content/uploads/2026/01/ORL-HNS-scaled.jpg
END:VEVENT
END:VCALENDAR