BEGIN:VCALENDAR
VERSION:2.0
PRODID:-//Bontempi Chirurgiche Instrumente - ECPv6.15.20//NONSGML v1.0//EN
CALSCALE:GREGORIAN
METHOD:PUBLISH
X-WR-CALNAME:Bontempi Chirurgiche Instrumente
X-ORIGINAL-URL:https://www.bontempimed.com
X-WR-CALDESC:Eventi per Bontempi Chirurgiche Instrumente
REFRESH-INTERVAL;VALUE=DURATION:PT1H
X-Robots-Tag:noindex
X-PUBLISHED-TTL:PT1H
BEGIN:VTIMEZONE
TZID:Europe/Rome
BEGIN:DAYLIGHT
TZOFFSETFROM:+0100
TZOFFSETTO:+0200
TZNAME:CEST
DTSTART:20250330T010000
END:DAYLIGHT
BEGIN:STANDARD
TZOFFSETFROM:+0200
TZOFFSETTO:+0100
TZNAME:CET
DTSTART:20251026T010000
END:STANDARD
BEGIN:DAYLIGHT
TZOFFSETFROM:+0100
TZOFFSETTO:+0200
TZNAME:CEST
DTSTART:20260329T010000
END:DAYLIGHT
BEGIN:STANDARD
TZOFFSETFROM:+0200
TZOFFSETTO:+0100
TZNAME:CET
DTSTART:20261025T010000
END:STANDARD
BEGIN:DAYLIGHT
TZOFFSETFROM:+0100
TZOFFSETTO:+0200
TZNAME:CEST
DTSTART:20270328T010000
END:DAYLIGHT
BEGIN:STANDARD
TZOFFSETFROM:+0200
TZOFFSETTO:+0100
TZNAME:CET
DTSTART:20271031T010000
END:STANDARD
END:VTIMEZONE
BEGIN:VEVENT
DTSTART;VALUE=DATE:20260410
DTEND;VALUE=DATE:20260413
DTSTAMP:20260425T232236
CREATED:20260115T091629Z
LAST-MODIFIED:20260410T073232Z
UID:21488-1775779200-1776038399@www.bontempimed.com
SUMMARY:CONGRESSO NAZIONALE AICPE ROMA
DESCRIPTION:Il Congresso Nazionale AICPE rappresenta l’evento istituzionale più importante dell’anno per l’associazione. Non è solo un corso di aggiornamento\, ma il momento di incontro ufficiale della comunità dei chirurghi plastici estetici italiani per discutere lo stato dell’arte della professione. \nPunti Chiave dell’Evento:\n\n\nPanoramica Chirurgica Completa: A differenza dei corsi monotematici\, il Congresso Nazionale copre tutto lo spettro della chirurgia estetica: dalla rinoplastica alla chirurgia del seno\, dal rimodellamento corporeo (lipo\, addominoplastica) alla chirurgia post-bariatrica e genitale. \n\n\nEtica\, Sicurezza e Legge: Unico nel suo genere\, questo congresso dedica ampio spazio non solo alla tecnica\, ma anche agli aspetti medico-legali\, assicurativi ed etici. Si discutono le nuove normative\, il consenso informato e la gestione del contenzioso medico-paziente\, temi cruciali per la tutela del professionista. \n\n\nOspiti Internazionali (ISAPS/ASAPS): Grazie alle forti partnership globali\, AICPE porta a Roma i giganti della chirurgia plastica mondiale per confrontare le tecniche italiane con i trend d’oltreoceano. \n\n\nNetworking e Community: È l’evento “di famiglia” per eccellenza. È il luogo dove si consolidano i rapporti tra colleghi italiani\, si presentano i nuovi soci e si crea quella rete di supporto professionale fondamentale per chi opera nel settore privato. \n\n\nA chi si rivolge:\nIl target primario è il Chirurgo Plastico Estetico. Sebbene aperto anche ai medici estetici per alcune sessioni\, il taglio è fortemente chirurgico e istituzionale\, focalizzato sulle esigenze di chi opera in sala operatoria.
URL:https://www.bontempimed.com/event/aicpe-roma/
LOCATION:ROMA\, Italy
CATEGORIES:PLASTICA
ATTACH;FMTTYPE=image/png:https://www.bontempimed.com/wp-content/uploads/2026/01/Screenshot-2026-04-10-093048.png
END:VEVENT
END:VCALENDAR