BEGIN:VCALENDAR
VERSION:2.0
PRODID:-//Bontempi Chirurgiche Instrumente - ECPv6.15.20//NONSGML v1.0//EN
CALSCALE:GREGORIAN
METHOD:PUBLISH
X-ORIGINAL-URL:https://www.bontempimed.com
X-WR-CALDESC:Eventi per Bontempi Chirurgiche Instrumente
REFRESH-INTERVAL;VALUE=DURATION:PT1H
X-Robots-Tag:noindex
X-PUBLISHED-TTL:PT1H
BEGIN:VTIMEZONE
TZID:Europe/Rome
BEGIN:DAYLIGHT
TZOFFSETFROM:+0100
TZOFFSETTO:+0200
TZNAME:CEST
DTSTART:20250330T010000
END:DAYLIGHT
BEGIN:STANDARD
TZOFFSETFROM:+0200
TZOFFSETTO:+0100
TZNAME:CET
DTSTART:20251026T010000
END:STANDARD
BEGIN:DAYLIGHT
TZOFFSETFROM:+0100
TZOFFSETTO:+0200
TZNAME:CEST
DTSTART:20260329T010000
END:DAYLIGHT
BEGIN:STANDARD
TZOFFSETFROM:+0200
TZOFFSETTO:+0100
TZNAME:CET
DTSTART:20261025T010000
END:STANDARD
BEGIN:DAYLIGHT
TZOFFSETFROM:+0100
TZOFFSETTO:+0200
TZNAME:CEST
DTSTART:20270328T010000
END:DAYLIGHT
BEGIN:STANDARD
TZOFFSETFROM:+0200
TZOFFSETTO:+0100
TZNAME:CET
DTSTART:20271031T010000
END:STANDARD
END:VTIMEZONE
BEGIN:VEVENT
DTSTART;VALUE=DATE:20260331
DTEND;VALUE=DATE:20260403
DTSTAMP:20260425T232346
CREATED:20260115T091527Z
LAST-MODIFIED:20260116T094652Z
UID:21485-1774915200-1775174399@www.bontempimed.com
SUMMARY:DUBAI DERMA
DESCRIPTION:Dubai Derma è il più importante evento scientifico dedicato alla dermatologia\, alla cura della pelle e ai laser nella regione MENASA (Medio Oriente\, Nord Africa e Sud Asia). Si tiene annualmente presso il Dubai World Trade Centre e rappresenta il ponte ideale tra le tecnologie orientali e quelle occidentali\, unendo un congresso scientifico a una fiera commerciale di proporzioni enormi. \nPunti Chiave dell’Evento:\n\n\nHub Strategico Regionale: È la porta d’accesso privilegiata per il mercato mediorientale e asiatico. Qui si definiscono le tendenze estetiche specifiche per queste etnie e culture (es. trattamenti per pelli scure\, sbiancamento\, standard di bellezza arabi e asiatici). \n\n\nDermatologia Clinica ed Estetica: A differenza di altri congressi puramente estetici\, Dubai Derma mantiene una forte anima clinica. Si trattano patologie dermatologiche classiche (psoriasi\, acne\, vitiligine\, dermatiti) con la stessa profondità dei trattamenti estetici e laser. \n\n\nBusiness e Fiera Commerciale: L’area espositiva è immensa e fortemente orientata al business. È il luogo dove i grandi brand globali e i produttori emergenti (specialmente coreani e cinesi) chiudono accordi commerciali milionari e presentano tecnologie laser e device ad alta potenza. \n\n\nWorkshop Pratici (Pre & Post Conference): L’evento è noto per i suoi numerosi corsi intensivi che si tengono prima e dopo il congresso principale\, focalizzati su procedure specifiche come trapianto di capelli\, liposuzione assistita e tecniche laser avanzate. \n\n\nA chi si rivolge:\nÈ un evento fondamentale per Dermatologi\, Specialisti Laser\, Chirurghi Plastici e Medici Estetici che operano o vogliono espandersi nel mercato internazionale\, specialmente verso il Medio Oriente. È anche cruciale per i distributori e le aziende del settore.
URL:https://www.bontempimed.com/event/dubai-derma/
LOCATION:DUBAI\, United Arab Emirates
CATEGORIES:PLASTICA
ATTACH;FMTTYPE=image/jpeg:https://www.bontempimed.com/wp-content/uploads/2026/01/dubai-derma-scaled.jpg
END:VEVENT
END:VCALENDAR